BEGIN:VCALENDAR
VERSION:2.0
PRODID:-//ChamberMaster//Event Calendar 2.0//EN
METHOD:PUBLISH
X-PUBLISHED-TTL:P3D
REFRESH-INTERVAL:P3D
CALSCALE:GREGORIAN
BEGIN:VEVENT
DTSTART:20260424T210000Z
DTEND:20260425T180000Z
X-MICROSOFT-CDO-ALLDAYEVENT:FALSE
SUMMARY:Merton S. Goodnow House Tour
DESCRIPTION:Historic Hutchinson invites the community to experience a rare opportunity to step inside one of Hutchinson's most significant architectural treasures during its first-ever historic house tour fundraiser! This special event showcases the beautifully restored Merton S. Goodnow House at 446 Main Street South in Hutchinson\, MN a Prairie Style home designed by renowned architects Purcell and Elmslie\, built in 1913. Notably\, this residence is the only private home in McLeod County listed on the National Register of Historic Places. Visitors will be guided through the home by Richard Kronick\, Architectural Historian\, who will highlight the defining features of Prairie architecture and explain the historical and cultural importance of the Goodnow House. Tours will be held Friday\, April 24th & Saturday\, April 25th.
X-ALT-DESC;FMTTYPE=text/html:Historic Hutchinson invites the community to experience a rare opportunity to step inside one of Hutchinson&rsquo\;s most significant architectural treasures during its first-ever historic house tour fundraiser! This special event showcases the beautifully restored Merton S. Goodnow House at 446 Main Street South in Hutchinson\, MN a Prairie Style home designed by renowned architects Purcell and Elmslie\, built in 1913. Notably\, this residence is the only private home in McLeod County listed on the National Register of Historic Places. Visitors will be guided through the home by Richard Kronick\, Architectural Historian\, who will highlight the defining features of Prairie architecture and explain the historical and cultural importance of the Goodnow House. Tours will be held Friday\, April 24th &amp\; Saturday\, April 25th.
LOCATION:446 Main Street South in Hutchinson\, MN
UID:e.42.41557
SEQUENCE:3
DTSTAMP:20260420T081846Z
URL:https://business.explorehutchinson.com/events/details/merton-s-goodnow-house-tour-41557
END:VEVENT

END:VCALENDAR
