BEGIN:VCALENDAR
VERSION:2.0
PRODID:-//ChamberMaster//Event Calendar 2.0//EN
METHOD:PUBLISH
X-PUBLISHED-TTL:P3D
REFRESH-INTERVAL:P3D
CALSCALE:GREGORIAN
BEGIN:VEVENT
DTSTART:20230328T170000Z
DTEND:20230328T180000Z
X-MICROSOFT-CDO-ALLDAYEVENT:FALSE
SUMMARY:Mike Cannon (Retired Big 10 Football Official) Recognition Luncheon
DESCRIPTION:Mike will be giving a presentation about his career as a Big 10 official at 12:30pm. Cake will be provided. Open to the public. Sponsored by the Kiwanis Club.
X-ALT-DESC;FMTTYPE=text/html:Mike will be giving a presentation about his career as a Big 10 official at 12:30pm. Cake will be provided. Open to the public. Sponsored by the Kiwanis Club.
LOCATION:VFW
UID:e.42.34499
SEQUENCE:3
DTSTAMP:20260419T144908Z
URL:https://business.explorehutchinson.com/events/details/mike-cannon-retired-big-10-football-official-recognition-luncheon-34499
END:VEVENT

END:VCALENDAR
