BEGIN:VCALENDAR
VERSION:2.0
PRODID:-//ChamberMaster//Event Calendar 2.0//EN
METHOD:PUBLISH
X-PUBLISHED-TTL:P3D
REFRESH-INTERVAL:P3D
CALSCALE:GREGORIAN
BEGIN:VEVENT
DTSTART;VALUE=DATE:20290614
DTEND;VALUE=DATE:20290615
TRANSP:TRANSPARENT
X-MICROSOFT-CDO-ALLDAYEVENT:TRUE
SUMMARY:Monthly meeting
DESCRIPTION:We'd love to have you visit to learn more about our group\, the Hutchinson Area Women of Today.\n\nWe meet in the back room of the Hutchinson Chamber Office. Enter through the alley door. Watch your step!\n\nJoin us at 6:30 pm for a social time along with a Random Act of Kindness project to work on\, and at 7:00 pm we'll start our meeting. Everyone is welcome... come and bring a friend .. we hope to see YOU there!
X-ALT-DESC;FMTTYPE=text/html:<div>We&#39\;d love to have you visit to learn more about our group\, the Hutchinson Area Women of Today.<br />\nWe meet in the back room of the Hutchinson Chamber Office. Enter through the alley door. Watch your step!</div>\n\n<div>Join us at 6:30 pm for a social time along with a Random Act of Kindness project to work on\, and at 7:00 pm we&#39\;ll start our meeting. Everyone is welcome... come and bring a friend&hellip\;.. we hope to see YOU there!</div>\n
LOCATION:Hutchinson Area Chamber of Commerce\, Education center
UID:e.42.37076
SEQUENCE:3
DTSTAMP:20260424T050014Z
URL:https://business.explorehutchinson.com/events/details/monthly-meeting-06-14-2029-37076
END:VEVENT

END:VCALENDAR
