BEGIN:VCALENDAR
VERSION:2.0
PRODID:-//ChamberMaster//Event Calendar 2.0//EN
METHOD:PUBLISH
X-PUBLISHED-TTL:P3D
REFRESH-INTERVAL:P3D
CALSCALE:GREGORIAN
BEGIN:VEVENT
DTSTART:20230626T233000Z
DTEND:20230627T010000Z
X-MICROSOFT-CDO-ALLDAYEVENT:FALSE
SUMMARY:Music in the Park
DESCRIPTION:Music in the Park is a FREE concert in Library Square thanks to our generous sponsors. This week\, Tony Cuchetti is performing. Our social host\, McLeod Alliance will be selling dessert to raise money for their organization. Bring a chair and enjoy an evening of music in the park.
X-ALT-DESC;FMTTYPE=text/html:Music in the Park is a FREE concert in Library Square thanks to our generous sponsors. This week\, Tony Cuchetti is performing. Our social host\, McLeod Alliance will be selling dessert to raise money for their organization. Bring a chair and enjoy an evening of music in the park.
LOCATION:Library Square Hutchinson
UID:e.42.34612
SEQUENCE:3
DTSTAMP:20260426T035532Z
URL:https://business.explorehutchinson.com/events/details/music-in-the-park-06-26-2023-34612
END:VEVENT

END:VCALENDAR
