BEGIN:VCALENDAR
VERSION:2.0
PRODID:-//ChamberMaster//Event Calendar 2.0//EN
METHOD:PUBLISH
X-PUBLISHED-TTL:P3D
REFRESH-INTERVAL:P3D
CALSCALE:GREGORIAN
BEGIN:VEVENT
DTSTART;VALUE=DATE:20220802
DTEND;VALUE=DATE:20220803
TRANSP:TRANSPARENT
X-MICROSOFT-CDO-ALLDAYEVENT:TRUE
SUMMARY:National Night Out
DESCRIPTION:2022 National Night Out \n\nParties Information\n\n \n\nBIRDIE COURT AND HERITAGE AVENUE NW  \n\nLocation:  Birdie Court cul-de-sac\n\nTime:  5:30-7:30p.m.\n\nContact:  Michelle Kiefer at 507-430-2280\n\nBring:  A dish to share\, beverage\, and lawn chair.   Plates and utensils provided.\n\n \n\nGOLFVIEW COURT NW    \n\nWho's invited:   Area neighbors\n\nLocation:   Golfview Court cul-de-sac\n\nTime: 5:30p.m.\n\nContact:  Bev Wangerin at 320-583-3652\n\nBring:  Dish to share and table service.  Water provided\n\n \n\nTYLER STREET SW   \n\nWho's invited:  Neighborhood residents\n\nLocation:  Tyler Street SW Cul de sac\n\nTime:  5:30-9:00p.m.\n\nContact:  Tim Welsch at 320-583-3318\n\nBring:  A lawn chair and a $2 donation for floats and meal.\n\n \n\nNORTHWOODS PARK  NE  \n\nWho's invited:  Anyone who wishes to attend\n\nLocation:  Northwoods Park Shelter\n\nTime:  5:30-7p.m.\n\nContact:  Mavis Schwanke at 320-587-2058 or schwanke@hutchtel.net\n\nBring:  A dish to share.  Beverages and table service provided.\n\n \n\nSOUTHWEST COURT SW  \n\nWho's invited:  Area residents\n\nLocation:  Lions Park West on Sunset Street SW\n\nTime:  6:00 8:00 p.m.\n\nContact:  Toni Fischer at 320-552-3977\n\nBring:   A chair\, something to share at the potluck\, beverage and eating utensils.  \n\n \n\n \n\nOAKWOOD COURT NW   \n\nWho's invited:  Area residents\n\nLocation:   Oakwood Court gazebo\n\nTime:  6:00p.m.\n\nContact:   Bev Luke at 612-269-2783\n\nBring:  Potluck-a dish to pass and chairs.  Tables\, utensils\, and beverages will be provided.\n\n \n\n \n\n \n\nLYNN TOWNSHIP  \n\nWho's invited:   Lynn Township residents\n\nLocation:   Lynn Township Hall\n\nTime:   5:00-8:00p.m.\n\nContact:   Cheryl Bleil at 320- 587-2746\n\nBring:   A dish to pass.  Plates\, utensils and beverage are provided.\n\n \n\nADAMS STREET SE    \n\nWho's invited:   300 block of Adams and Jefferson Streets\n\nLocation:   326 Adams Street (alley)\n\nTime:   5:00 p.m.\n\nContact:  Rose Anne Bailey at 320-583-5846\n\nBring:   A dish to pass and chairs.   Plates\, utensils\, and water provided.\n\n \n\nGRACE LUTHERAN CHURCH  \n\nWho's invited:  Anyone who wishes to attend.  This party is billed as "the largest and best block party in town".\n\nLocation:  430 Fifth Ave. S.W.\n\nTime:   5 p.m.-dusk\n\nContact:  Church office at 320-587-3051\n\nBring:  Nothing.  Chairs\, food\, games and prizes will be provided.  Kids may want to bring their own water soakers\, shields and buckets for "Hutchinson's largest water fight".\n\n \n\nPARK TOWERS   \n\nWho's invited:  Park Towers residents\n\nLocation:  Park Towers Community Room\n\nTime:  2:00-4:00 p.m.\n\nContact:  JJ Morgan\, 507-995-6623\n\nBring:  Nothing.  Sub sandwiches and beverages will be provided.\n\n \n\n \n\nROLLING OAKS LANE NW  \n\nWho's invited:   Rolling Oaks neighbors\n\nLocation:   Rolling Oaks cul-de-sac\n\nTime:  6:15-7:30 p.m.  \n\nContact:  Tammy Lauer at 320- 583-2567\n\nBring:  Dessert potluck\n\n \n\n \n\nELKS PARK /ELKS LODGE SPONSOR \n\nWho's invited:   Everyone\n\nLocation:  Elk Park Inclusive Playground on Sherwood Street SE\n\nTime:   6:00-8:00 p.m.\n\nContact:  Tammy Lehn at 320-583-8330\n\nBring:  A lawn chair.   Root beer floats will be served.\n\n \n\n \n\nJEFFERSON STREET SE  \n\nWho's invited:   Neighborhood residents\n\nLocation:  315 Jefferson Court SE\n\nTime:  6:30 8:00 p.m.\n\nContact:  Pamela Houk at 320-587-8220\n\nBring :  A lawn chair.  Root beer floats will be served.\n\n \n\nCOUNTRY CLUB TERRACE  NW\n\nWho's invited:  Country Club Terrace residents\n\nLocation:  Grassy area by the office\n\nTime:  5:00 8:00 p.m.\n\nContact:  Dawn Aldrich at 320-587-2000\n\nBring:  A dish to pass.  Lots of activities for children are planned.\n\n \n\n \n\nVFW PARK\n\nWho's invited:   Area residents\n\nLocation:   VFW Park on Sherwood Street SE\n\nTime:   6-8p.m.\n\nContact:  John  Paulson at 320-583-1941\n\nBring:  Nothing.  Picnic tables are available for seating.  Root beer floats and lemonade will be served.   Kid-friendly activities are planned.\n\n \n\n \n\n8th AVENUE SW\n\nWho's invited:  Area residents\n\nLocation:   End of 8th Avenue SW\n\nTime:  6:00p.m.\n\nContact:   Dennis Eickhoff at 320-292-6688\n\nBring:    A lawn chair and your beverage.   Ice cream treats will be served.\n\n \n\n \n\nLARSON STREET  SW\n\nWho's invited:  Area residents\n\nLocation:  444 Larson St. SW\n\nTime:  4 to 8 p.m.\n\nContact:  Call or text Sara Hein at 952-451-9219\n\nBring:  A side dish to pass\, if you wish but it's not required to attend.  A main dish will be provided.  Call or text Sara Hein at 952-451-9219 if you want a recommendation on what to bring.  Sara will also tell you if tables and chairs are needed.\n\n \n\nSOUTHFORK RIDGE NEIGHBORHOOD\n\nWho's invited:  Neighborhood residents\n\nLocation:  1401 Southfork Dr. SE\n\nTime:  5:30 p.m.\n\nContact:  Tim and Cheryl Sanken at 320-587-3008\n\nBring:  A beverage and a chair.  Hot dogs and chips will be provided.\n\n \n\nWOODSTONE ACTIVE LIVING\n\nWho's invited:  Entire community welcome!\n\nLocation:   955 Cleveland Ave. SW (Please use Woodstone Senior Living Community entrance at 1025 Dale St. SW to access patio.)\n\nTime:   5:00 p.m.                     \n\nContact:   Deb Brewer at 320-282-6453\n\nBring:   A chair.   Serving hot dogs\, chips and beverage.  Tours will be available.
X-ALT-DESC;FMTTYPE=text/html:<strong><span style="font-size:10.0pt\;">2022 National Night Out </span></strong><br />\n<strong><span style="font-size:10.0pt\;">Parties Information</span></strong><br />\n&nbsp\;<br />\n<span style="font-size:10.0pt\;">BIRDIE COURT AND HERITAGE AVENUE NW&nbsp\; </span><br />\n<span style="font-size:10.0pt\;">Location:&nbsp\; Birdie Court cul-de-sac</span><br />\n<span style="font-size:10.0pt\;">Time:&nbsp\; 5:30-7:30p.m.</span><br />\n<span style="font-size:10.0pt\;">Contact:&nbsp\; Michelle Kiefer at 507-430-2280</span><br />\n<span style="font-size:10.0pt\;">Bring:&nbsp\; A dish to share\, beverage\, and lawn chair.&nbsp\;&nbsp\; Plates and utensils provided.</span><br />\n&nbsp\;<br />\n<span style="font-size:10.0pt\;">GOLFVIEW COURT NW&nbsp\;&nbsp\;&nbsp\; </span><br />\n<span style="font-size:10.0pt\;">Who&rsquo\;s invited:&nbsp\;&nbsp\; Area neighbors</span><br />\n<span style="font-size:10.0pt\;">Location:&nbsp\;&nbsp\; Golfview Court cul-de-sac</span><br />\n<span style="font-size:10.0pt\;">Time: 5:30p.m.</span><br />\n<span style="font-size:10.0pt\;">Contact:&nbsp\; Bev Wangerin at 320-583-3652</span><br />\n<span style="font-size:10.0pt\;">Bring:&nbsp\; Dish to share and table service.&nbsp\; Water provided</span><br />\n&nbsp\;<br />\n<span style="font-size:10.0pt\;">TYLER STREET SW&nbsp\;&nbsp\; </span><br />\n<span style="font-size:10.0pt\;">Who&rsquo\;s invited:&nbsp\; Neighborhood residents</span><br />\n<span style="font-size:10.0pt\;">Location:&nbsp\; Tyler Street SW Cul de sac</span><br />\n<span style="font-size:10.0pt\;">Time:&nbsp\; 5:30-9:00p.m.</span><br />\n<span style="font-size:10.0pt\;">Contact:&nbsp\; Tim Welsch at 320-583-3318</span><br />\n<span style="font-size:10.0pt\;">Bring:&nbsp\; A lawn chair and a $2 donation for floats and meal.</span><br />\n&nbsp\;<br />\n<span style="font-size:10.0pt\;">NORTHWOODS PARK&nbsp\; NE&nbsp\; </span><br />\n<span style="font-size:10.0pt\;">Who&rsquo\;s invited:&nbsp\; Anyone who wishes to attend</span><br />\n<span style="font-size:10.0pt\;">Location:&nbsp\; Northwoods Park Shelter</span><br />\n<span style="font-size:10.0pt\;">Time:&nbsp\; 5:30-7p.m.</span><br />\n<span style="font-size:10.0pt\;">Contact:&nbsp\; Mavis Schwanke at 320-587-2058 or <a href="mailto:schwanke@hutchtel.net">schwanke@hutchtel.net</a></span><br />\n<span style="font-size:10.0pt\;">Bring:&nbsp\; A dish to share.&nbsp\; Beverages and table service provided.</span><br />\n&nbsp\;<br />\n<span style="font-size:10.0pt\;">SOUTHWEST COURT SW&nbsp\; </span><br />\n<span style="font-size:10.0pt\;">Who&rsquo\;s invited:&nbsp\; Area residents</span><br />\n<span style="font-size:10.0pt\;">Location:&nbsp\; Lions Park West on Sunset Street SW</span><br />\n<span style="font-size:10.0pt\;">Time:&nbsp\; 6:00&mdash\;8:00 p.m.</span><br />\n<span style="font-size:10.0pt\;">Contact:&nbsp\; Toni Fischer at 320-552-3977</span><br />\n<span style="font-size:10.0pt\;">Bring:&nbsp\;&nbsp\; A chair\, something to share at the potluck\, beverage and eating utensils.&nbsp\; </span><br />\n&nbsp\;<br />\n&nbsp\;<br />\n<span style="font-size:10.0pt\;">OAKWOOD COURT NW&nbsp\;&nbsp\; </span><br />\n<span style="font-size:10.0pt\;">Who&rsquo\;s invited:&nbsp\; Area residents</span><br />\n<span style="font-size:10.0pt\;">Location:&nbsp\;&nbsp\; Oakwood Court gazebo</span><br />\n<span style="font-size:10.0pt\;">Time:&nbsp\; 6:00p.m.</span><br />\n<span style="font-size:10.0pt\;">Contact:&nbsp\;&nbsp\; Bev Luke at 612-269-2783</span><br />\n<span style="font-size:10.0pt\;">Bring:&nbsp\; Potluck-a dish to pass and chairs.&nbsp\; Tables\, utensils\, and beverages will be provided.</span><br />\n&nbsp\;<br />\n&nbsp\;<br />\n&nbsp\;<br />\n<span style="font-size:10.0pt\;">LYNN TOWNSHIP&nbsp\; </span><br />\n<span style="font-size:10.0pt\;">Who&rsquo\;s invited:&nbsp\;&nbsp\; Lynn Township residents</span><br />\n<span style="font-size:10.0pt\;">Location:&nbsp\;&nbsp\; Lynn Township Hall</span><br />\n<span style="font-size:10.0pt\;">Time:&nbsp\;&nbsp\; 5:00-8:00p.m.</span><br />\n<span style="font-size:10.0pt\;">Contact:&nbsp\;&nbsp\; Cheryl Bleil at 320- 587-2746</span><br />\n<span style="font-size:10.0pt\;">Bring:&nbsp\;&nbsp\; A dish to pass.&nbsp\; Plates\, utensils and beverage are provided.</span><br />\n&nbsp\;<br />\n<span style="font-size:10.0pt\;">ADAMS STREET SE&nbsp\;&nbsp\;&nbsp\; </span><br />\n<span style="font-size:10.0pt\;">Who&rsquo\;s invited:&nbsp\;&nbsp\; 300 block of Adams and Jefferson Streets</span><br />\n<span style="font-size:10.0pt\;">Location:&nbsp\;&nbsp\; 326 Adams Street (alley)</span><br />\n<span style="font-size:10.0pt\;">Time:&nbsp\;&nbsp\; 5:00 p.m.</span><br />\n<span style="font-size:10.0pt\;">Contact:&nbsp\; Rose Anne Bailey at 320-583-5846</span><br />\n<span style="font-size:10.0pt\;">Bring:&nbsp\;&nbsp\; A dish to pass and chairs.&nbsp\;&nbsp\; Plates\, utensils\, and water provided.</span><br />\n&nbsp\;<br />\n<span style="font-size:10.0pt\;">GRACE LUTHERAN CHURCH&nbsp\; </span><br />\n<span style="font-size:10.0pt\;">Who&rsquo\;s invited:&nbsp\; Anyone who wishes to attend.&nbsp\; This party is billed as &ldquo\;the largest and best block party in town&rdquo\;.</span><br />\n<span style="font-size:10.0pt\;">Location:&nbsp\; 430 Fifth Ave. S.W.</span><br />\n<span style="font-size:10.0pt\;">Time:&nbsp\;&nbsp\; 5 p.m.-dusk</span><br />\n<span style="font-size:10.0pt\;">Contact:&nbsp\; Church office at 320-587-3051</span><br />\n<span style="font-size:10.0pt\;">Bring:&nbsp\; Nothing.&nbsp\; Chairs\, food\, games and prizes will be provided.&nbsp\; Kids may want to bring their own water soakers\, shields and buckets for &ldquo\;Hutchinson&rsquo\;s largest water fight&rdquo\;.</span><br />\n&nbsp\;<br />\n<span style="font-size:10.0pt\;">PARK TOWERS&nbsp\;&nbsp\; </span><br />\n<span style="font-size:10.0pt\;">Who&rsquo\;s invited:&nbsp\; Park Towers residents</span><br />\n<span style="font-size:10.0pt\;">Location:&nbsp\; Park Towers Community Room</span><br />\n<span style="font-size:10.0pt\;">Time:&nbsp\; 2:00-4:00 p.m.</span><br />\n<span style="font-size:10.0pt\;">Contact:&nbsp\; JJ Morgan\, 507-995-6623</span><br />\n<span style="font-size:10.0pt\;">Bring:&nbsp\; Nothing.&nbsp\; Sub sandwiches and beverages will be provided.</span><br />\n&nbsp\;<br />\n&nbsp\;<br />\n<span style="font-size:10.0pt\;">ROLLING OAKS LANE NW&nbsp\; </span><br />\n<span style="font-size:10.0pt\;">Who&rsquo\;s invited:&nbsp\;&nbsp\; Rolling Oaks neighbors</span><br />\n<span style="font-size:10.0pt\;">Location:&nbsp\;&nbsp\; Rolling Oaks cul-de-sac</span><br />\n<span style="font-size:10.0pt\;">Time:&nbsp\; 6:15-7:30 p.m.&nbsp\; </span><br />\n<span style="font-size:10.0pt\;">Contact:&nbsp\; Tammy Lauer at 320- 583-2567</span><br />\n<span style="font-size:10.0pt\;">Bring:&nbsp\; Dessert potluck</span><br />\n&nbsp\;<br />\n&nbsp\;<br />\n<span style="font-size:10.0pt\;">ELKS PARK /ELKS LODGE SPONSOR </span><br />\n<span style="font-size:10.0pt\;">Who&rsquo\;s invited:&nbsp\;&nbsp\; Everyone</span><br />\n<span style="font-size:10.0pt\;">Location:&nbsp\; Elk Park Inclusive Playground on Sherwood Street SE</span><br />\n<span style="font-size:10.0pt\;">Time:&nbsp\;&nbsp\; 6:00-8:00 p.m.</span><br />\n<span style="font-size:10.0pt\;">Contact:&nbsp\; Tammy Lehn at 320-583-8330</span><br />\n<span style="font-size:10.0pt\;">Bring:&nbsp\; A lawn chair.&nbsp\;&nbsp\; Root beer floats will be served.</span><br />\n&nbsp\;<br />\n&nbsp\;<br />\n<span style="font-size:10.0pt\;">JEFFERSON STREET SE&nbsp\; </span><br />\n<span style="font-size:10.0pt\;">Who&rsquo\;s invited:&nbsp\;&nbsp\; Neighborhood residents</span><br />\n<span style="font-size:10.0pt\;">Location:&nbsp\; 315 Jefferson Court SE</span><br />\n<span style="font-size:10.0pt\;">Time:&nbsp\; 6:30&mdash\;8:00 p.m.</span><br />\n<span style="font-size:10.0pt\;">Contact:&nbsp\; Pamela Houk at 320-587-8220</span><br />\n<span style="font-size:10.0pt\;">Bring :&nbsp\; A lawn chair.&nbsp\; Root beer floats will be served.</span><br />\n&nbsp\;<br />\n<span style="font-size:10.0pt\;">COUNTRY CLUB TERRACE&nbsp\; NW</span><br />\n<span style="font-size:10.0pt\;">Who&rsquo\;s invited:&nbsp\; Country Club Terrace residents</span><br />\n<span style="font-size:10.0pt\;">Location:&nbsp\; Grassy area by the office</span><br />\n<span style="font-size:10.0pt\;">Time:&nbsp\; 5:00&mdash\;8:00 p.m.</span><br />\n<span style="font-size:10.0pt\;">Contact:&nbsp\; Dawn Aldrich at 320-587-2000</span><br />\n<span style="font-size:10.0pt\;">Bring:&nbsp\; A dish to pass.&nbsp\; Lots of activities for children are planned.</span><br />\n&nbsp\;<br />\n&nbsp\;<br />\n<span style="font-size:10.0pt\;">VFW PARK</span><br />\n<span style="font-size:10.0pt\;">Who&rsquo\;s invited:&nbsp\;&nbsp\; Area residents</span><br />\n<span style="font-size:10.0pt\;">Location:&nbsp\;&nbsp\; VFW Park on Sherwood Street SE</span><br />\n<span style="font-size:10.0pt\;">Time:&nbsp\;&nbsp\; 6-8p.m.</span><br />\n<span style="font-size:10.0pt\;">Contact:&nbsp\; John&nbsp\; Paulson at 320-583-1941</span><br />\n<span style="font-size:10.0pt\;">Bring:&nbsp\; Nothing.&nbsp\; Picnic tables are available for seating.&nbsp\; Root beer floats and lemonade will be served. &nbsp\;&nbsp\;Kid-friendly activities are planned.</span><br />\n&nbsp\;<br />\n&nbsp\;<br />\n<span style="font-size:10.0pt\;">8<sup>th</sup> AVENUE SW</span><br />\n<span style="font-size:10.0pt\;">Who&rsquo\;s invited:&nbsp\; Area residents</span><br />\n<span style="font-size:10.0pt\;">Location:&nbsp\;&nbsp\; End of 8<sup>th</sup> Avenue SW</span><br />\n<span style="font-size:10.0pt\;">Time:&nbsp\; 6:00p.m.</span><br />\n<span style="font-size:10.0pt\;">Contact:&nbsp\;&nbsp\; Dennis Eickhoff at 320-292-6688</span><br />\n<span style="font-size:10.0pt\;">Bring:&nbsp\;&nbsp\;&nbsp\; A lawn chair and your beverage.&nbsp\;&nbsp\; Ice cream treats will be served.</span><br />\n&nbsp\;<br />\n&nbsp\;<br />\n<span style="font-size:10.0pt\;">LARSON STREET&nbsp\; SW</span><br />\n<span style="font-size:10.0pt\;">Who&rsquo\;s invited:&nbsp\; Area residents</span><br />\n<span style="font-size:10.0pt\;">Location:&nbsp\; 444 Larson St. SW</span><br />\n<span style="font-size:10.0pt\;">Time:&nbsp\; 4 to 8 p.m.</span><br />\n<span style="font-size:10.0pt\;">Contact:&nbsp\; Call or text Sara Hein at 952-451-9219</span><br />\n<span style="font-size:10.0pt\;">Bring:&nbsp\; A side dish to pass\, if you wish&mdash\;but it&rsquo\;s not required to attend.&nbsp\; A main dish will be provided.&nbsp\; Call or text Sara Hein at 952-451-9219 if you want a recommendation on what to bring.&nbsp\; Sara will also tell you if tables and chairs are needed.</span><br />\n&nbsp\;<br />\n<span style="font-size:10.0pt\;">SOUTHFORK RIDGE NEIGHBORHOOD</span><br />\n<span style="font-size:10.0pt\;">Who&rsquo\;s invited:&nbsp\; Neighborhood residents</span><br />\n<span style="font-size:10.0pt\;">Location:&nbsp\; 1401 Southfork Dr. SE</span><br />\n<span style="font-size:10.0pt\;">Time:&nbsp\; 5:30 p.m.</span><br />\n<span style="font-size:10.0pt\;">Contact:&nbsp\; Tim and Cheryl Sanken at 320-587-3008</span><br />\n<span style="font-size:10.0pt\;">Bring:&nbsp\; A beverage and a chair.&nbsp\; Hot dogs and chips will be provided.</span><br />\n&nbsp\;<br />\n<span style="font-size:10.0pt\;">WOODSTONE ACTIVE LIVING</span><br />\n<span style="font-size:10.0pt\;">Who&rsquo\;s invited:&nbsp\; Entire community welcome!</span><br />\n<span style="font-size:10.0pt\;">Location:&nbsp\;&nbsp\; 955 Cleveland Ave. SW (Please use Woodstone Senior Living Community entrance at 1025 Dale St. SW to access patio.)</span><br />\n<span style="font-size:10.0pt\;">Time:&nbsp\;&nbsp\; 5:00 p.m.&nbsp\;&nbsp\;&nbsp\;&nbsp\;&nbsp\;&nbsp\;&nbsp\;&nbsp\;&nbsp\;&nbsp\;&nbsp\;&nbsp\;&nbsp\;&nbsp\;&nbsp\;&nbsp\;&nbsp\;&nbsp\;&nbsp\;&nbsp\; </span><br />\n<span style="font-size:10.0pt\;">Contact:&nbsp\;&nbsp\; Deb Brewer at 320-282-6453</span><br />\n<span style="font-size:10.0pt\;">Bring:&nbsp\;&nbsp\; A chair.&nbsp\;&nbsp\; Serving hot dogs\, chips and beverage. &nbsp\;Tours will be available.</span><br />\n&nbsp\;
LOCATION:Hutchinson- Various locations- see description
UID:e.42.12749
SEQUENCE:3
DTSTAMP:20260425T122644Z
URL:https://business.explorehutchinson.com/events/details/national-night-out-08-02-2022-12749
END:VEVENT

END:VCALENDAR
