BEGIN:VCALENDAR
VERSION:2.0
PRODID:-//ChamberMaster//Event Calendar 2.0//EN
METHOD:PUBLISH
X-PUBLISHED-TTL:P3D
REFRESH-INTERVAL:P3D
CALSCALE:GREGORIAN
BEGIN:VEVENT
DTSTART:20181110T020000Z
DTEND:20181110T030000Z
X-MICROSOFT-CDO-ALLDAYEVENT:FALSE
SUMMARY:No Lines Improv Show
DESCRIPTION:No Lines Improv has been creating unique\, fun\, and original comedy for Hutchinson and the surrounding region since 2016.\n\nNo Lines will be performing at the Hutchinson Center for the Arts on Friday November 9th  from 8pm - 9pm.\n\n  Join us for an interactive and entertaining evening full of laughs.
X-ALT-DESC;FMTTYPE=text/html:<span style="color:rgb(75\, 79\, 86)\; font-family:helvetica\,arial\,sans-serif\; font-size:14px">No Lines Improv has been creating unique\, fun\, and original comedy for Hutchinson and the surrounding region since 2016.</span><br />\nNo Lines will be performing at the Hutchinson Center for the Arts on Friday November 9th&nbsp\; from 8pm - 9pm.<br />\n&nbsp\;<span style="font-size:14px">&nbsp\;Join us for an interactive and entertaining evening full of laughs.&nbsp\;</span>
LOCATION:Hutchinson Center for the Arts 15 Franklin Street SW Hutchinson\, MN 55350 United States
UID:e.42.27910
SEQUENCE:3
DTSTAMP:20260422T141102Z
URL:https://business.explorehutchinson.com/events/details/no-lines-improv-show-27910
END:VEVENT

END:VCALENDAR
