BEGIN:VCALENDAR
VERSION:2.0
PRODID:-//ChamberMaster//Event Calendar 2.0//EN
METHOD:PUBLISH
X-PUBLISHED-TTL:P3D
REFRESH-INTERVAL:P3D
CALSCALE:GREGORIAN
BEGIN:VEVENT
DTSTART:20230526T140000Z
DTEND:20230526T170000Z
X-MICROSOFT-CDO-ALLDAYEVENT:FALSE
SUMMARY:Oakland Cemetery Memorial Day Flag Placement
DESCRIPTION:Please come and join us in placing American Flags on the graves of our fallen veterans.
X-ALT-DESC;FMTTYPE=text/html:Please come and join us in placing American Flags on the graves of our fallen veterans.
LOCATION:Oakland Cemetery
UID:e.42.34848
SEQUENCE:3
DTSTAMP:20260426T035532Z
URL:https://business.explorehutchinson.com/events/details/oakland-cemetery-memorial-day-flag-placement-34848
END:VEVENT

END:VCALENDAR
