BEGIN:VCALENDAR
VERSION:2.0
PRODID:-//ChamberMaster//Event Calendar 2.0//EN
METHOD:PUBLISH
X-PUBLISHED-TTL:P3D
REFRESH-INTERVAL:P3D
CALSCALE:GREGORIAN
BEGIN:VEVENT
DTSTART:20191012T000000Z
DTEND:20191012T010000Z
X-MICROSOFT-CDO-ALLDAYEVENT:FALSE
SUMMARY:Old Herbaceous
DESCRIPTION:Kurt Schulz will perform "Old Herbaceous" a lovely story about the head gardener of the Manor House Fairfield\, Herbert Pinnegar. It is filled with humor\, anecdotes\, and sentimentality about his life and loves...namely\, gardens\, life and Mrs. Charteris. Come be part of the story! Admission is free\, but a collection will be taken to benefit HOMES McLeod.
X-ALT-DESC;FMTTYPE=text/html:Kurt Schulz will perform &quot\;Old Herbaceous&quot\; a lovely story about the head gardener of the Manor House Fairfield\, Herbert Pinnegar. It is filled with humor\, anecdotes\, and sentimentality about his life and loves...namely\, gardens\, life and Mrs. Charteris. Come be part of the story! Admission is free\, but a collection will be taken to benefit HOMES McLeod.
LOCATION:New Journey UCC Church Main St and 4th Ave Hutchinson
UID:e.42.29568
SEQUENCE:3
DTSTAMP:20260423T084946Z
URL:https://business.explorehutchinson.com/events/details/old-herbaceous-29568
END:VEVENT

END:VCALENDAR
