BEGIN:VCALENDAR
VERSION:2.0
PRODID:-//ChamberMaster//Event Calendar 2.0//EN
METHOD:PUBLISH
X-PUBLISHED-TTL:P3D
REFRESH-INTERVAL:P3D
CALSCALE:GREGORIAN
BEGIN:VEVENT
DTSTART:20230226T200000Z
DTEND:20230226T213000Z
X-MICROSOFT-CDO-ALLDAYEVENT:FALSE
SUMMARY:One Book\, One Community
DESCRIPTION:Community book discussion of this year's selection: "The Seed Keeper" by Diane Wilson. Open to the public. Light refreshments.
X-ALT-DESC;FMTTYPE=text/html:Community book discussion of this year&#39\;s selection: &quot\;The Seed Keeper&quot\; by Diane Wilson. Open to the public. Light refreshments.
LOCATION:Hutchinson Center for the Arts 15 Franklin Street SW Hutchinson\, MN 55350
UID:e.42.33654
SEQUENCE:3
DTSTAMP:20260425T232754Z
URL:https://business.explorehutchinson.com/events/details/one-book-one-community-02-26-2023-33654
END:VEVENT

END:VCALENDAR
