BEGIN:VCALENDAR
VERSION:2.0
PRODID:-//ChamberMaster//Event Calendar 2.0//EN
METHOD:PUBLISH
X-PUBLISHED-TTL:P3D
REFRESH-INTERVAL:P3D
CALSCALE:GREGORIAN
BEGIN:VEVENT
DTSTART:20230325T190000Z
DTEND:20230325T203000Z
X-MICROSOFT-CDO-ALLDAYEVENT:FALSE
SUMMARY:One Book\, One Community: Bringing Nature Back to the People
DESCRIPTION:Keynote presentation\, "Bringing Nature Back to People" by Megan Schnitker expands on insights from the book\, "The Seed Keeper" by Diane Wilson. Megan is an indigenous traditional herbalist and owner of Lakota Made\, LLC in Mankato. Light refreshments served.
X-ALT-DESC;FMTTYPE=text/html:Keynote presentation\, &quot\;Bringing Nature Back to People&quot\; by Megan Schnitker expands on insights from the book\, &quot\;The Seed Keeper&quot\; by Diane Wilson. Megan is an indigenous traditional herbalist and owner of Lakota Made\, LLC in Mankato. Light refreshments served.
LOCATION:McLeod County Historical Museum 380 School Road NW Hutchinson\, MN 55350
UID:e.42.33655
SEQUENCE:3
DTSTAMP:20260419T162142Z
URL:https://business.explorehutchinson.com/events/details/one-book-one-community-bringing-nature-back-to-the-people-33655
END:VEVENT

END:VCALENDAR
