BEGIN:VCALENDAR
VERSION:2.0
PRODID:-//ChamberMaster//Event Calendar 2.0//EN
METHOD:PUBLISH
X-PUBLISHED-TTL:P3D
REFRESH-INTERVAL:P3D
CALSCALE:GREGORIAN
BEGIN:VEVENT
DTSTART:20230225T160000Z
DTEND:20230225T200000Z
X-MICROSOFT-CDO-ALLDAYEVENT:FALSE
SUMMARY:Open House for Annual Youth Art Show
DESCRIPTION:Open house for the Annual Youth Art Show featuring art from McLeod county K-12 students. Stop in to see art from local students.
X-ALT-DESC;FMTTYPE=text/html:Open house for the Annual Youth Art Show featuring art from McLeod county K-12 students. Stop in to see art from local students.&nbsp\;
LOCATION:Hutchinson Center for the Arts 15 Franklin St SW Hutchinson\, MN 55350
UID:e.42.33388
SEQUENCE:3
DTSTAMP:20260425T215952Z
URL:https://business.explorehutchinson.com/events/details/open-house-for-annual-youth-art-show-33388
END:VEVENT

END:VCALENDAR
