BEGIN:VCALENDAR
VERSION:2.0
PRODID:-//ChamberMaster//Event Calendar 2.0//EN
METHOD:PUBLISH
X-PUBLISHED-TTL:P3D
REFRESH-INTERVAL:P3D
CALSCALE:GREGORIAN
BEGIN:VEVENT
DTSTART:20230610T140000Z
DTEND:20230610T170000Z
X-MICROSOFT-CDO-ALLDAYEVENT:FALSE
SUMMARY:Open Studio at the Market - Hutchinson Center for the Arts
DESCRIPTION:Open Studio at the Market! We are bringing Open Studio to the Hutchinson Farmers Market this summer. We will have a project & supplies available for your use. This is a free event\, and open to all ages & experience levels. Children must be accompanied by an adult.
X-ALT-DESC;FMTTYPE=text/html:<p>Open Studio at the Market! We are bringing Open Studio to the Hutchinson Farmers Market this summer. We will have a project &amp\; supplies available for your use. This is a free event\, and open to all ages &amp\; experience levels.&nbsp\;Children must be accompanied by an adult.</p>\n
LOCATION:Hutchinson Depot 25 Adams St SE
UID:e.42.33365
SEQUENCE:3
DTSTAMP:20260426T035619Z
URL:https://business.explorehutchinson.com/events/details/open-studio-hutchinson-center-for-the-arts-06-10-2023-33365
END:VEVENT

END:VCALENDAR
