BEGIN:VCALENDAR
VERSION:2.0
PRODID:-//ChamberMaster//Event Calendar 2.0//EN
METHOD:PUBLISH
X-PUBLISHED-TTL:P3D
REFRESH-INTERVAL:P3D
CALSCALE:GREGORIAN
BEGIN:VEVENT
DTSTART:20260507T150000Z
DTEND:20260507T230000Z
X-MICROSOFT-CDO-ALLDAYEVENT:FALSE
SUMMARY:Peace Lutheran Occasional Sale
DESCRIPTION:Monthly occasional sale --May sale features 50% off long pants storewide\, teapots\, and games. We have crafts\, books\, toys\, children + adult puzzles\, games\, kitchen items\, flatware\, glassware\, small appliances (many new)\, jewelry (some vintage)\, 50's 5-piece child-sized folding table and chairs\, Ulmer quilting rack\, purses\, linens\, decorative pillows\, pictures\, home decor\, lamps\, end tables\, vintage Matchbox and Hot Wheel cars (buy one get one free equal or less value)\, VINYL\, CD's and DVD's\, and other miscellaneous items. Check out our clearance items in the east side of the garage. One quarter of May sales will go to Birthright. Cash only please!
X-ALT-DESC;FMTTYPE=text/html:Monthly occasional sale --May sale features 50% off long pants storewide\, teapots\, and games. We have crafts\, books\, toys\, children + adult puzzles\, games\, kitchen items\, flatware\, glassware\, small appliances (many new)\, jewelry (some vintage)\, 50&#39\;s 5-piece child-sized folding table and chairs\, Ulmer quilting rack\, purses\, linens\, decorative pillows\, pictures\, home decor\, lamps\, end tables\, vintage Matchbox and Hot Wheel cars (buy one get one free equal or less value)\, VINYL\, CD&#39\;s and DVD&#39\;s\, and other miscellaneous items. Check out our clearance items in the east side of the garage. One quarter of May sales will go to Birthright. Cash only please!
LOCATION:Peace Place 400 Glen St. Hutchinson
UID:e.42.41555
SEQUENCE:3
DTSTAMP:20260421T165030Z
URL:https://business.explorehutchinson.com/events/details/peace-lutheran-occasional-sale-05-07-2026-41555
END:VEVENT

END:VCALENDAR
