BEGIN:VCALENDAR
VERSION:2.0
PRODID:-//ChamberMaster//Event Calendar 2.0//EN
METHOD:PUBLISH
X-PUBLISHED-TTL:P3D
REFRESH-INTERVAL:P3D
CALSCALE:GREGORIAN
BEGIN:VEVENT
DTSTART:20260502T120000Z
DTEND:20260502T180000Z
X-MICROSOFT-CDO-ALLDAYEVENT:FALSE
SUMMARY:Pillow Cleaning
DESCRIPTION:Carlson Pillow Cleaning hosted by the Hutchinson American Legion Auxiliary Unit 96. New pillows also for sale.
X-ALT-DESC;FMTTYPE=text/html:Carlson Pillow Cleaning hosted by the Hutchinson American Legion Auxiliary Unit 96. New pillows also for sale.
LOCATION:45 Adams St Hutchinson
UID:e.42.41526
SEQUENCE:3
DTSTAMP:20260421T164813Z
URL:https://business.explorehutchinson.com/events/details/pillow-cleaning-05-02-2026-41526
END:VEVENT

END:VCALENDAR
