BEGIN:VCALENDAR
VERSION:2.0
PRODID:-//ChamberMaster//Event Calendar 2.0//EN
METHOD:PUBLISH
X-PUBLISHED-TTL:P3D
REFRESH-INTERVAL:P3D
CALSCALE:GREGORIAN
BEGIN:VEVENT
DTSTART:20230506T120000Z
DTEND:20230506T180000Z
X-MICROSOFT-CDO-ALLDAYEVENT:FALSE
SUMMARY:Pillow Cleaning
DESCRIPTION:Pillows cleaned\, deodorized\, sanitized\, fluffed. Hosted by American Legion Auxiliary Unit 96
X-ALT-DESC;FMTTYPE=text/html:Pillows cleaned\, deodorized\, sanitized\, fluffed. Hosted by American Legion Auxiliary Unit 96
LOCATION:Hutchinson Days Inn
UID:e.42.34784
SEQUENCE:3
DTSTAMP:20260426T035348Z
URL:https://business.explorehutchinson.com/events/details/pillow-cleaning-05-06-2023-34784
END:VEVENT

END:VCALENDAR
