BEGIN:VCALENDAR
VERSION:2.0
PRODID:-//ChamberMaster//Event Calendar 2.0//EN
METHOD:PUBLISH
X-PUBLISHED-TTL:P3D
REFRESH-INTERVAL:P3D
CALSCALE:GREGORIAN
BEGIN:VEVENT
DTSTART:20230609T150000Z
DTEND:20230609T180000Z
X-MICROSOFT-CDO-ALLDAYEVENT:FALSE
SUMMARY:Plant & Bake Sale
DESCRIPTION:The Bear Lake Sunshine Club Plant Sale!  Perennials\, Annuals\, Houseplants Variety of Home Baked Goods Bird Houses Greeting Cards
X-ALT-DESC;FMTTYPE=text/html:<span style="font-size:14px\;"><span style="font-family:arial\;">The <span style="color: rgb(68\, 68\, 68)\;">Bear Lake Sunshine Club&nbsp\;</span>Plant Sale!&nbsp\; Perennials\, Annuals\, Houseplants Variety of Home Baked Goods Bird Houses Greeting Cards</span></span>
LOCATION:215 Hassan Street
UID:e.42.34851
SEQUENCE:3
DTSTAMP:20260426T035348Z
URL:https://business.explorehutchinson.com/events/details/plant-bake-sale-34851
END:VEVENT

END:VCALENDAR
