BEGIN:VCALENDAR
VERSION:2.0
PRODID:-//ChamberMaster//Event Calendar 2.0//EN
METHOD:PUBLISH
X-PUBLISHED-TTL:P3D
REFRESH-INTERVAL:P3D
CALSCALE:GREGORIAN
BEGIN:VEVENT
DTSTART:20260130T220000Z
DTEND:20260131T030000Z
X-MICROSOFT-CDO-ALLDAYEVENT:FALSE
SUMMARY:Progressive Poker Run-Chamber Annual Event
DESCRIPTION:The Annual Chamber Event is one of our signature fundraisers\, with all proceeds supporting the programs\, services\, and advocacy the Chamber provides to local businesses and the Hutchinson community. Your attendance helps strengthen that impact.\n\nWe are especially excited to host the Progressive Poker Run for the second year in a row. After a great response last year\, we are looking forward to another fun and engaging evening filled with connections and community.
X-ALT-DESC;FMTTYPE=text/html:<p class="isselectedend"><span style="font-family:Poppins">The Annual Chamber Event is one of our signature fundraisers\, with all proceeds supporting the programs\, services\, and advocacy the Chamber provides to local businesses and the Hutchinson community. Your attendance helps strengthen that impact.<o:p></o:p></span></p>\n\n<p class="isselectedend"><span style="font-family:Poppins">We are especially excited to host the Progressive Poker Run for the second year in a row. After a great response last year\, we are looking forward to another fun and engaging evening filled with connections and community.<o:p></o:p></span></p>\n
LOCATION:Jan. 30 | 4pm-10ish (3 stops\, come to one\, or join us at all locations!) MC's Pub\, River House Kitchen + Drinks\, Art's Place
UID:e.42.37922
SEQUENCE:3
DTSTAMP:20260421T115333Z
URL:https://business.explorehutchinson.com/events/details/progressive-poker-run-chamber-annual-event-37922
END:VEVENT

END:VCALENDAR
