BEGIN:VCALENDAR
VERSION:2.0
PRODID:-//ChamberMaster//Event Calendar 2.0//EN
METHOD:PUBLISH
X-PUBLISHED-TTL:P3D
REFRESH-INTERVAL:P3D
CALSCALE:GREGORIAN
BEGIN:VEVENT
DTSTART:20230510T143000Z
DTEND:20230510T203000Z
X-MICROSOFT-CDO-ALLDAYEVENT:FALSE
SUMMARY:Red Cross Blood Drive
DESCRIPTION:You're Invited - Donate Blood at Our Upcoming Blood Drive!
X-ALT-DESC;FMTTYPE=text/html:You&#39\;re Invited - Donate Blood at Our Upcoming Blood Drive!
LOCATION:Crosspoint Church 1215 Roberts Rd. SW Hutchinson\, MN
UID:e.42.34787
SEQUENCE:3
DTSTAMP:20260426T035532Z
URL:https://business.explorehutchinson.com/events/details/red-cross-blood-drive-05-10-2023-34787
END:VEVENT

END:VCALENDAR
