BEGIN:VCALENDAR
VERSION:2.0
PRODID:-//ChamberMaster//Event Calendar 2.0//EN
METHOD:PUBLISH
X-PUBLISHED-TTL:P3D
REFRESH-INTERVAL:P3D
CALSCALE:GREGORIAN
BEGIN:VEVENT
DTSTART:20230316T160000Z
DTEND:20230316T170000Z
X-MICROSOFT-CDO-ALLDAYEVENT:FALSE
SUMMARY:Relationships and Red Flags with Marissa Cohen
DESCRIPTION:No registration required Open to the Public Zoom link to join tiny.cc/rc-relationships\n\n\n\nSpeaker: Marissa Cohen Relationships and Red Flags with Marissa Cohen Marissa Cohen is an activist\, survivor\, and best-selling author. Some of her books include "Healing from Emotional Abuse\, "Breaking through the Silence: Bullet Journal\," and "The Ruhe Approach: Healing from Abuse."\n\n\n\nCohen will share her knowledge and expertise on healthy versus unhealthy relationships\, red flags to look for\, and techniques to help stay safe.
X-ALT-DESC;FMTTYPE=text/html:<br />\nNo registration required Open to the Public Zoom link to join tiny.cc/rc-relationships<br />\n<br />\nSpeaker: Marissa Cohen Relationships and Red Flags with Marissa Cohen Marissa Cohen is an activist\, survivor\, and best-selling author. Some of her books include &ldquo\;Healing from Emotional Abuse\, &rdquo\;Breaking through the Silence: Bullet Journal\,&rdquo\; and &ldquo\;The Ruhe Approach: Healing from Abuse.&rdquo\;<br />\n<br />\nCohen will share her knowledge and expertise on healthy versus unhealthy relationships\, red flags to look for\, and techniques to help stay safe.
LOCATION:Zoom: https://www.tiny.cc/rc-relationships
UID:e.42.34452
SEQUENCE:3
DTSTAMP:20260419T161900Z
URL:https://business.explorehutchinson.com/events/details/relationships-and-red-flags-with-marissa-cohen-34452
END:VEVENT

END:VCALENDAR
