BEGIN:VCALENDAR
VERSION:2.0
PRODID:-//ChamberMaster//Event Calendar 2.0//EN
METHOD:PUBLISH
X-PUBLISHED-TTL:P3D
REFRESH-INTERVAL:P3D
CALSCALE:GREGORIAN
BEGIN:VEVENT
DTSTART:20230605T223000Z
DTEND:20230605T233000Z
X-MICROSOFT-CDO-ALLDAYEVENT:FALSE
SUMMARY:Relay For Life McLeod County - Team Meeting
DESCRIPTION:Relay for Life of Mcleod County - Team Meeting \n\n	Monthly updates will be given to teams about the progress we are making towards the event\n	Teams will have an opportunity to turn in money collected\n	Teams will have an opportunity to update leadership team\n	All will have the opportunity to discuss any outstanding questions\, comments or concerns
X-ALT-DESC;FMTTYPE=text/html:Relay for Life of Mcleod County - Team Meeting&nbsp\;\n<ul>\n	<li>Monthly updates will be given to teams about the progress we are making towards the event</li>\n	<li>Teams will have an opportunity to turn in money collected</li>\n	<li>Teams will have an opportunity to update leadership team</li>\n	<li>All will have the opportunity to discuss any outstanding questions\, comments or concerns</li>\n</ul>\n
LOCATION:Christ the King Lutheran Church
UID:e.42.34538
SEQUENCE:3
DTSTAMP:20260426T040138Z
URL:https://business.explorehutchinson.com/events/details/relay-for-life-mcleod-county-team-meeting-06-05-2023-34538
END:VEVENT

END:VCALENDAR
