BEGIN:VCALENDAR
VERSION:2.0
PRODID:-//ChamberMaster//Event Calendar 2.0//EN
METHOD:PUBLISH
X-PUBLISHED-TTL:P3D
REFRESH-INTERVAL:P3D
CALSCALE:GREGORIAN
BEGIN:VEVENT
DTSTART:20230513T170000Z
DTEND:20230514T030000Z
X-MICROSOFT-CDO-ALLDAYEVENT:FALSE
SUMMARY:Relay for Life - Strike Out Cancer - Cosmic Bowling
DESCRIPTION:Cosmic Bowling Night\n\nSaturday May 13th\, 2023\n\nNoon-10pm\n\n@Hutch Bowl\n\n\n\nCome out and support Relay for Life of McLeod County\n\n$6 per Game 11 & over\n\n$4 per Game 10yrs & under\n\n$12 (1) Topping Homemade Pizzas\n\n$4 Tap Beers\n\n\n\n$2 per game will be donated back to Relay for Life \n\nLet's BEAT Cancer together
X-ALT-DESC;FMTTYPE=text/html:Cosmic Bowling Night<br />\nSaturday May 13th\, 2023<br />\nNoon-10pm<br />\n@Hutch Bowl<br />\n<br />\nCome out and support Relay for Life of McLeod County<br />\n$6 per Game 11 &amp\; over<br />\n$4 per Game 10yrs &amp\; under<br />\n$12 (1) Topping Homemade Pizzas<br />\n$4 Tap Beers<br />\n<br />\n$2 per game will be donated back to Relay for Life&nbsp\;<br />\nLet&#39\;s BEAT Cancer together
LOCATION:Hutch Bowl\, Hutchinson MN
UID:e.42.34532
SEQUENCE:3
DTSTAMP:20260426T035552Z
URL:https://business.explorehutchinson.com/events/details/relay-for-life-strike-out-cancer-cosmic-bowling-34532
END:VEVENT

END:VCALENDAR
