BEGIN:VCALENDAR
VERSION:2.0
PRODID:-//ChamberMaster//Event Calendar 2.0//EN
METHOD:PUBLISH
X-PUBLISHED-TTL:P3D
REFRESH-INTERVAL:P3D
CALSCALE:GREGORIAN
BEGIN:VEVENT
DTSTART:20260308T010000Z
DTEND:20260308T030000Z
X-MICROSOFT-CDO-ALLDAYEVENT:FALSE
SUMMARY:Remote- Live TV shows
DESCRIPTION:Most families spend Saturday night on the couch.. scrolling\, clicking \, and taking turns with the remote. Comedy! Talent! Reality TV fun! Fun for ALL ages- so bring the whole family!
X-ALT-DESC;FMTTYPE=text/html:Most families spend Saturday night on the couch.. scrolling\, clicking \, and taking turns with the remote. Comedy! Talent! Reality TV fun! Fun for ALL ages- so bring the whole family!
LOCATION:Maplewood Academy 700 Main Street North Hutchinson MN
UID:e.42.41461
SEQUENCE:3
DTSTAMP:20260421T151022Z
URL:https://business.explorehutchinson.com/events/details/remote-live-tv-shows-41461
END:VEVENT

END:VCALENDAR
