BEGIN:VCALENDAR
VERSION:2.0
PRODID:-//ChamberMaster//Event Calendar 2.0//EN
METHOD:PUBLISH
X-PUBLISHED-TTL:P3D
REFRESH-INTERVAL:P3D
CALSCALE:GREGORIAN
BEGIN:VEVENT
DTSTART:20230520T000000Z
DTEND:20230521T023000Z
X-MICROSOFT-CDO-ALLDAYEVENT:FALSE
SUMMARY:River House Kitchen + Drinks presents Moonshine Comedy!
DESCRIPTION:River House Kitchen + Drinks presents Moonshine Comedy! \n\nWe are excited to be putting on 3 shows with national comedian Liz Miele!\n\nTickets available on our website\nFriday\, May 19th\n\n5:30pm Dinner + 7:00 pm Show\n\nOR\n\n7:00 pm Show\n\n\n\nSaturday\, May 20th\n\n5:30pm Dinner + 7:00pm Show\n\nOR\n\n7:00pm Show\n\n\n\nAND\n\n\n\n7:00 pm Dinner + 9:30 pm Show\n\nOR\n\n9:30 pm Show
X-ALT-DESC;FMTTYPE=text/html:<span style="font-size:14px\;"><span style="font-family:verdana\;">River House Kitchen + Drinks presents Moonshine Comedy!&nbsp\;<br />\nWe are excited to be putting on 3 shows with national comedian Liz Miele!<br />\nTickets available on our website</span></span>\n<p style="box-sizing: border-box\; margin: 0px 0px 1rem\; font-size: 18px\; line-height: 1.7\; padding: 0px\; outline: 0px\; color: rgb(62\, 63\, 63)\; font-family: Overpass\, Arial\, Helvetica\, sans-serif\; font-weight: 700\; background-color: rgb(255\, 255\, 255)\;"><span style="font-size:14px\;"><span style="font-family:verdana\;"><span style="box-sizing: border-box\; outline: 0px\;"><span style="box-sizing: border-box\; outline: 0px\;">Friday\, May 19th<br style="box-sizing: border-box\;" />\n5:30pm Dinner + 7:00 pm Show<br style="box-sizing: border-box\;" />\nOR<br style="box-sizing: border-box\;" />\n7:00 pm Show<br style="box-sizing: border-box\;" />\n<br style="box-sizing: border-box\;" />\nSaturday\, May 20th<br style="box-sizing: border-box\;" />\n<span style="box-sizing: border-box\; color: rgb(51\, 51\, 51)\;">5:30pm Dinner + 7:00pm Show</span><br background-color:="" font-size:="" style="box-sizing: border-box\; color: rgb(51\, 51\, 51)\;" trebuchet="" />\n<span style="box-sizing: border-box\; color: rgb(51\, 51\, 51)\;">OR</span><br background-color:="" font-size:="" style="box-sizing: border-box\; color: rgb(51\, 51\, 51)\;" trebuchet="" />\n<span style="box-sizing: border-box\; color: rgb(51\, 51\, 51)\;">7:00pm Show<br style="box-sizing: border-box\;" />\n<br style="box-sizing: border-box\;" />\nAND<br style="box-sizing: border-box\;" />\n<br style="box-sizing: border-box\;" />\n7:00 pm Dinner + 9:30 pm Show</span><br style="box-sizing: border-box\;" />\nOR<br style="box-sizing: border-box\;" />\n9:30 pm Show</span></span></span></span></p>\n\n<p style="box-sizing: border-box\; margin: 0px 0px 1rem\; font-size: 18px\; line-height: 1.7\; padding: 0px\; color: rgb(62\, 63\, 63)\; font-family: Overpass\, Arial\, Helvetica\, sans-serif\; font-weight: 700\; background-color: rgb(255\, 255\, 255)\;">&nbsp\;</p>\n
LOCATION:122 Main Street South Hutchinson
UID:e.42.34450
SEQUENCE:3
DTSTAMP:20260426T035456Z
URL:https://business.explorehutchinson.com/events/details/river-house-kitchen-drinks-presents-moonshine-comedy-05-19-2023-34450
END:VEVENT

END:VCALENDAR
