BEGIN:VCALENDAR
VERSION:2.0
PRODID:-//ChamberMaster//Event Calendar 2.0//EN
METHOD:PUBLISH
X-PUBLISHED-TTL:P3D
REFRESH-INTERVAL:P3D
CALSCALE:GREGORIAN
BEGIN:VEVENT
DTSTART:20230325T180000Z
DTEND:20230325T193000Z
X-MICROSOFT-CDO-ALLDAYEVENT:FALSE
SUMMARY:Rock Painting Class
DESCRIPTION:Create rocks to hide or to keep! Have you seen colorful rocks around town or posted on Facebook? Join the fun and create your own painted rocks. All supplies are provided. You will take home several rocks that are sealed and ready for hiding or displaying. This is an all ages and all skill levels class.\n\n$10 per person\n\nChildren under 7 must be accompanied by an adult.
X-ALT-DESC;FMTTYPE=text/html:<p>Create rocks to hide or to keep! Have you seen colorful rocks around town or posted on Facebook? Join the fun and create your own painted rocks. All supplies are provided. You will take home several rocks that are sealed and ready for hiding or displaying.&nbsp\;This is an all ages and all skill levels class.</p>\n\n<p>$10 per person</p>\n\n<p>Children under 7 must be accompanied by an adult.&nbsp\;</p>\n
LOCATION:Hutchinson Center for the Arts 15 Franklin St SW
UID:e.42.34306
SEQUENCE:3
DTSTAMP:20260419T161852Z
URL:https://business.explorehutchinson.com/events/details/rock-painting-34306
END:VEVENT

END:VCALENDAR
