BEGIN:VCALENDAR
VERSION:2.0
PRODID:-//ChamberMaster//Event Calendar 2.0//EN
METHOD:PUBLISH
X-PUBLISHED-TTL:P3D
REFRESH-INTERVAL:P3D
CALSCALE:GREGORIAN
BEGIN:VEVENT
DTSTART:20230325T230000Z
DTEND:20230326T030000Z
X-MICROSOFT-CDO-ALLDAYEVENT:FALSE
SUMMARY:Sam Ellefson Stand Up Comedy Taping
DESCRIPTION:Sam Ellefson graduated from HHS in 2015 and left for the West Coast. In Washington\, he started his own parody late-night talk show and began performing stand-up all over the Pacific Northwest and Colorado. Now\, after the success of last year's show\, Sam will be returning to HHS to record his debut comedy special. Also Joining him will be fellow HHS alum\, Ben Marcotte. The show is recommended for ages 18+ for some mature content and because a live recording\, photo\, and video will be taken. Because this is a live taping\, you must be in the venue by the time doors close or you will not be allowed to enter. Tickets purchased in advance are $10 plus fees or 4 for $35. Tickets will be $15 at the door.
X-ALT-DESC;FMTTYPE=text/html:Sam Ellefson graduated from HHS in 2015 and left for the West Coast. In Washington\, he started his own parody late-night talk show and began performing stand-up all over the Pacific Northwest and Colorado. Now\, after the success of last year&#39\;s show\, Sam will be returning to HHS to record his debut comedy special. Also Joining him will be fellow HHS alum\, Ben Marcotte. The show is recommended for ages 18+ for some mature content and because a live recording\, photo\, and video will be taken. Because this is a live taping\, you must be in the venue by the time doors close or you will not be allowed to enter. Tickets purchased in advance are $10 plus fees or 4 for $35. Tickets will be $15 at the door.
LOCATION:Hutchinson High School Auditorium 1200 Roberts Rd SW Hutchinson\, MN 55350
UID:e.42.33377
SEQUENCE:3
DTSTAMP:20260419T144413Z
URL:https://business.explorehutchinson.com/events/details/sam-ellefson-stand-up-comedy-taping-33377
END:VEVENT

END:VCALENDAR
