BEGIN:VCALENDAR
VERSION:2.0
PRODID:-//ChamberMaster//Event Calendar 2.0//EN
METHOD:PUBLISH
X-PUBLISHED-TTL:P3D
REFRESH-INTERVAL:P3D
CALSCALE:GREGORIAN
BEGIN:VEVENT
DTSTART:20310324T223000Z
DTEND:20310325T000000Z
X-MICROSOFT-CDO-ALLDAYEVENT:FALSE
SUMMARY:School Board Regular Meeting
DESCRIPTION:School Board Regular Meeting\n\n4th Monday of the Month
X-ALT-DESC;FMTTYPE=text/html:School Board Regular Meeting<br>\n4th Monday of the Month
LOCATION:Hutchinson City Center 111 Hassan St SE Hutchinson\, Mn 55350
UID:e.42.38174
SEQUENCE:3
DTSTAMP:20260425T130939Z
URL:https://business.explorehutchinson.com/events/details/school-board-regular-meeting-03-24-2031-38174
END:VEVENT

END:VCALENDAR
