BEGIN:VCALENDAR
VERSION:2.0
PRODID:-//ChamberMaster//Event Calendar 2.0//EN
METHOD:PUBLISH
X-PUBLISHED-TTL:P3D
REFRESH-INTERVAL:P3D
CALSCALE:GREGORIAN
BEGIN:VEVENT
DTSTART:20290625T223000Z
DTEND:20290626T000000Z
X-MICROSOFT-CDO-ALLDAYEVENT:FALSE
SUMMARY:School Board Regular Meeting
DESCRIPTION:School Board Regular Meeting\n\n4th Monday of the Month
X-ALT-DESC;FMTTYPE=text/html:School Board Regular Meeting<br>\n4th Monday of the Month
LOCATION:Hutchinson City Center 111 Hassan St SE Hutchinson\, Mn 55350
UID:e.42.38153
SEQUENCE:3
DTSTAMP:20260424T045819Z
URL:https://business.explorehutchinson.com/events/details/school-board-regular-meeting-06-25-2029-38153
END:VEVENT

END:VCALENDAR
