BEGIN:VCALENDAR
VERSION:2.0
PRODID:-//ChamberMaster//Event Calendar 2.0//EN
METHOD:PUBLISH
X-PUBLISHED-TTL:P3D
REFRESH-INTERVAL:P3D
CALSCALE:GREGORIAN
BEGIN:VEVENT
DTSTART:20200225T223000Z
DTEND:20200226T003000Z
X-MICROSOFT-CDO-ALLDAYEVENT:FALSE
SUMMARY:Spaghetti Dinner
DESCRIPTION:Spaghetti Dinner with homemade Italian meat sauce ( also available without meat) pasta\, desserts and beverages.
X-ALT-DESC;FMTTYPE=text/html:Spaghetti Dinner with homemade Italian meat sauce ( also available without meat) pasta\, desserts and beverages.
LOCATION:Bethlehem United Methodist Church\, 864 Miller Avenue\, Hutchinson
UID:e.42.29643
SEQUENCE:3
DTSTAMP:20260423T144854Z
URL:https://business.explorehutchinson.com/events/details/spaghetti-dinner-02-25-2020-29643
END:VEVENT

END:VCALENDAR
