BEGIN:VCALENDAR
VERSION:2.0
PRODID:-//ChamberMaster//Event Calendar 2.0//EN
METHOD:PUBLISH
X-PUBLISHED-TTL:P3D
REFRESH-INTERVAL:P3D
CALSCALE:GREGORIAN
BEGIN:VEVENT
DTSTART;VALUE=DATE:20230516
DTEND;VALUE=DATE:20230517
TRANSP:TRANSPARENT
X-MICROSOFT-CDO-ALLDAYEVENT:TRUE
SUMMARY:Spring Flower Planting: Hutchinson Businesses
DESCRIPTION:Join Olita for a day of FLOWER PLANTING\, May 16th!! I'd love for all local Hutchinson\, MN businesses to take the day and plant beautiful flowers! I'll likely be planting at Olita in the afternoon hours\, but feel free to plant that day whenever your schedule allows! ?? This is simply a fun way to create unity in our business community. Let's all make our town charming and inviting for Spring and Summer!
X-ALT-DESC;FMTTYPE=text/html:Join Olita for a day of FLOWER PLANTING\, May 16th!! I&#39\;d love for all local Hutchinson\, MN businesses to take the day and plant beautiful flowers! I&#39\;ll likely be planting at Olita in the afternoon hours\, but feel free to plant that day whenever your schedule allows! ?? This is simply a fun way to create unity in our business community. Let&#39\;s all make our town charming and inviting for Spring and Summer!
LOCATION:Hutchinson\, MN Businesses
UID:e.42.34832
SEQUENCE:3
DTSTAMP:20260426T022809Z
URL:https://business.explorehutchinson.com/events/details/spring-flower-planting-hutchinson-businesses-34832
END:VEVENT

END:VCALENDAR
