BEGIN:VCALENDAR
VERSION:2.0
PRODID:-//ChamberMaster//Event Calendar 2.0//EN
METHOD:PUBLISH
X-PUBLISHED-TTL:P3D
REFRESH-INTERVAL:P3D
CALSCALE:GREGORIAN
BEGIN:VEVENT
DTSTART:20260228T150000Z
DTEND:20260228T180000Z
X-MICROSOFT-CDO-ALLDAYEVENT:FALSE
SUMMARY:St Anastasia and Kids’ Depot Open House
DESCRIPTION:You are invited to come see first-hand what makes St. Anastasia School special! Join us Saturday\, February 28 between 9:00 am - 12:00 pm. Tour the school\, explore classrooms\, learn about our curriculum\, meet teachers and staff\, ask current families questions and more! Open to grades Pre-K thru 8th.
X-ALT-DESC;FMTTYPE=text/html:You are invited to come see first-hand what makes St. Anastasia School special! Join us Saturday\, February 28 between 9:00 am - 12:00 pm. Tour the school\, explore classrooms\, learn about our curriculum\, meet teachers and staff\, ask current families questions and more! Open to grades Pre-K thru 8th.
LOCATION:St Anastasia Catholic School 400 Lake St SW Hutchinson\, MN 55350
UID:e.42.38789
SEQUENCE:3
DTSTAMP:20260421T115440Z
URL:https://business.explorehutchinson.com/events/details/st-anastasia-and-kids-depot-open-house-38789
END:VEVENT

END:VCALENDAR
