BEGIN:VCALENDAR
VERSION:2.0
PRODID:-//ChamberMaster//Event Calendar 2.0//EN
METHOD:PUBLISH
X-PUBLISHED-TTL:P3D
REFRESH-INTERVAL:P3D
CALSCALE:GREGORIAN
BEGIN:VEVENT
DTSTART:20230628T163000Z
DTEND:20230628T183000Z
X-MICROSOFT-CDO-ALLDAYEVENT:FALSE
SUMMARY:SUMMER CONCERT SERIES
DESCRIPTION:FREE CONCERT AT 11:3O AM in the Sanctuary\n\nFollowed by 12:15 LUNCHEON (Take-Out Available)\n\n$10 Adults\n\nChildren FREE
X-ALT-DESC;FMTTYPE=text/html:FREE CONCERT AT 11:3O AM in the Sanctuary<br />\nFollowed by 12:15 LUNCHEON (Take-Out Available)<br />\n$10 Adults<br />\nChildren FREE<br />\n<br />\n<br />\n&nbsp\;
LOCATION:Peace Lutheran Church 400 Franklin St SW Hutchinson\, MN
UID:e.42.34889
SEQUENCE:3
DTSTAMP:20260426T035526Z
URL:https://business.explorehutchinson.com/events/details/summer-concert-series-06-28-2023-34889
END:VEVENT

END:VCALENDAR
