BEGIN:VCALENDAR
VERSION:2.0
PRODID:-//ChamberMaster//Event Calendar 2.0//EN
METHOD:PUBLISH
X-PUBLISHED-TTL:P3D
REFRESH-INTERVAL:P3D
CALSCALE:GREGORIAN
BEGIN:VEVENT
DTSTART;VALUE=DATE:20230607
DTEND;VALUE=DATE:20230804
TRANSP:TRANSPARENT
X-MICROSOFT-CDO-ALLDAYEVENT:TRUE
SUMMARY:Summer Feeding Program June 7th-August 3rd
DESCRIPTION:Starting June 7th-August 3rd Hutchinson School District will begin their Summer Feeding Program. Dates\, times\, and locations are below. All kids ages 18 and under eat FREE and must stay on site to eat. \n\n \nWest Elementary\n\nJune 7-August 3rd\n\nBreakfast 8:15am-9:15am\n\nLunch 11:30am-12:30pm\n\n \n\nPark Elementary\n\nJune 19th-August 3rd\n\n\nBreakfast 8:00am-9:00am\n\nLunch 11:30am-12:30pm\n\nThe program will be closed July 3-6th.
X-ALT-DESC;FMTTYPE=text/html:Starting June 7th-August 3rd Hutchinson School District will begin their Summer Feeding Program. Dates\, times\, and locations are below. All kids ages 18 and under eat FREE and must stay on site to eat.&nbsp\;<br />\n&nbsp\;\n<div>West Elementary</div>\n\n<div>June 7-August 3rd</div>\n\n<div>Breakfast 8:15am-9:15am</div>\n\n<div>Lunch 11:30am-12:30pm<br />\n&nbsp\;</div>\n\n<div>Park Elementary</div>\n\n<div>June 19th-August 3rd</div>\n\n<div>\n<div>Breakfast 8:00am-9:00am</div>\n\n<div>Lunch 11:30am-12:30pm</div>\n\n<div>The program will be closed July 3-6th.</div>\n</div>\n
LOCATION:West Elementary 760 School Rd. NW Hutchinson\, MN 55350 Park Elementary 100 Glen St. SW Hutchinson\, MN 55350
UID:e.42.34531
SEQUENCE:3
DTSTAMP:20260426T035128Z
URL:https://business.explorehutchinson.com/events/details/summer-feeding-program-june-7th-august-3rd-34531
END:VEVENT

END:VCALENDAR
