BEGIN:VCALENDAR
VERSION:2.0
PRODID:-//ChamberMaster//Event Calendar 2.0//EN
METHOD:PUBLISH
X-PUBLISHED-TTL:P3D
REFRESH-INTERVAL:P3D
CALSCALE:GREGORIAN
BEGIN:VEVENT
DTSTART:20230520T010000Z
DTEND:20230520T030000Z
X-MICROSOFT-CDO-ALLDAYEVENT:FALSE
SUMMARY:Swing into Spring
DESCRIPTION:The HHS New World Singers and Jazz Band will be playing at the Crow River Winery. Tickets are $25 and any proceeds benefit the Music Boosters which support the music departments at the HS. Desserts will be served. Drinks are available at the winery for a fee.\n\n\n\nPurchase Tickets through the following link https://isd423.epaytrak.com/Ticketing-C390.aspx\n\nAlso Available in person at the District office or night of at the Door
X-ALT-DESC;FMTTYPE=text/html:The HHS New World Singers and Jazz Band will be playing at the Crow River Winery. Tickets are $25 and any proceeds benefit the Music Boosters which support the music departments at the HS. Desserts will be served. Drinks are available at the winery for a fee.<br />\n<br />\nPurchase Tickets through the following link&nbsp\;<a href="https://l.facebook.com/l.php?u=https%3A%2F%2Fisd423.epaytrak.com%2FTicketing-C390.aspx%3Ffbclid%3DIwAR06E2Lt9s6d7xBXnfUSSYES3EllrOTbbA-zU8n09falQtXeihE5ATiX9t4&amp\;h=AT3Wp0pAro4qp6T6YkKIxjR1pHS9xT-ks63IK5Ip2cqMnpKMx85ahqGD9QUbzROw6EyDAfpvtSa7iyyosuCDgYLE-rBQCO5sBSNGpjUQ59x5ajrBKloiVUq1lj_pDpvvIi0" target="_blank">https://isd423.epaytrak.com/Ticketing-C390.aspx</a><br />\nAlso Available in person at the District office or night of at the Door<br />\n<br />\n<br />\n&nbsp\;
LOCATION:Crow River Winery
UID:e.42.34617
SEQUENCE:3
DTSTAMP:20260426T035128Z
URL:https://business.explorehutchinson.com/events/details/swing-into-spring-34617
END:VEVENT

END:VCALENDAR
