BEGIN:VCALENDAR
VERSION:2.0
PRODID:-//ChamberMaster//Event Calendar 2.0//EN
METHOD:PUBLISH
X-PUBLISHED-TTL:P3D
REFRESH-INTERVAL:P3D
CALSCALE:GREGORIAN
BEGIN:VEVENT
DTSTART:20230505T223000Z
DTEND:20230506T013000Z
X-MICROSOFT-CDO-ALLDAYEVENT:FALSE
SUMMARY:Taste of Rotary\, Cinco de Mayo Fiesta!
DESCRIPTION:Raffle tickets $25 available from Rotary members and at the event\n\nOther raffle items at the event. Proceeds to Hutchinson Rotary Foundation which supports local charities\, projects and scholarships\, international projects and Hutchinson Rotary Park\n\nSponsors:\n\n\n	Compass Occasions\n	Edward Jones All Hutchinson Offices\n	Factory Direct & Ashley HomeStore\n	Nuvera\n	Stamp n' Storage\n	Thrivent Christine Ruppert\, Jean Hallberg and Diane Knorr\n	American Family Insurance Bo Young\n	Bursch Travel\n	Citizen's Bank\n	Home State Bank\n	Hutchinson Pet Hospital\n	Kraft Walser Law Office\n	Ludowese Farms\n	Main Street Sports Bar\n	Melchert Law Office\n	Vine Valley Farms John and Wendy Tanata\n	Vivid Image\n	Carly's Shoes\n	Fisher Law PA\n	Hutchinson Dental Center\n	Piehl\, Hanson\, Beckman\, P.A.\n\nSocial Hour: 5:30 p.m.\n\nDinner: 6:30 p.m.\n\nRaffle Drawing: 7:30 p.m.\n\nLive Music: 5:30 to 8:30 p.m.
X-ALT-DESC;FMTTYPE=text/html:<p>Raffle tickets $25 available from Rotary members and at the event</p>\n\n<p>Other raffle items at the event. Proceeds to Hutchinson Rotary Foundation which supports local charities\, projects and scholarships\, international projects and Hutchinson Rotary Park</p>\n\n<p>Sponsors:</p>\n\n<ul>\n	<li>Compass Occasions</li>\n	<li>Edward Jones&mdash\;All Hutchinson Offices</li>\n	<li>Factory Direct &amp\; Ashley HomeStore</li>\n	<li>Nuvera</li>\n	<li>Stamp n&rsquo\; Storage</li>\n	<li>Thrivent&mdash\;Christine Ruppert\, Jean Hallberg and Diane Knorr</li>\n	<li>American Family Insurance&mdash\;Bo Young</li>\n	<li>Bursch Travel</li>\n	<li>Citizen&rsquo\;s Bank</li>\n	<li>Home State Bank</li>\n	<li>Hutchinson Pet Hospital</li>\n	<li>Kraft Walser Law Office</li>\n	<li>Ludowese Farms</li>\n	<li>Main Street Sports Bar</li>\n	<li>Melchert Law Office</li>\n	<li>Vine Valley Farms&mdash\;John and Wendy Tanata</li>\n	<li>Vivid Image</li>\n	<li>Carly&#39\;s Shoes</li>\n	<li>Fisher Law PA</li>\n	<li>Hutchinson Dental Center</li>\n	<li>Piehl\, Hanson\, Beckman\, P.A.</li>\n</ul>\nSocial Hour: 5:30 p.m.<br />\nDinner: 6:30 p.m.<br />\nRaffle Drawing: 7:30 p.m.<br />\nLive Music: 5:30 to 8:30 p.m.
LOCATION:Art's Place 35 1st Ave SW Hutchinson
UID:e.42.34533
SEQUENCE:3
DTSTAMP:20260426T035722Z
URL:https://business.explorehutchinson.com/events/details/taste-of-rotary-cinco-de-mayo-fiesta-34533
END:VEVENT

END:VCALENDAR
