BEGIN:VCALENDAR
VERSION:2.0
PRODID:-//ChamberMaster//Event Calendar 2.0//EN
METHOD:PUBLISH
X-PUBLISHED-TTL:P3D
REFRESH-INTERVAL:P3D
CALSCALE:GREGORIAN
BEGIN:VEVENT
DTSTART:20260220T003000Z
DTEND:20260220T024500Z
X-MICROSOFT-CDO-ALLDAYEVENT:FALSE
SUMMARY:"The Outlaw Josey Wales" Fundraiser
DESCRIPTION:Proceeds benefit Hutchinson Center for the Arts The Outlaw Josey Wales PG 2 hr 15 min The Outlaw Josey Wales chronicles the hero's violent journey westward after the Civil War. With fresh memoris of his family's slaughter by Red Leg soldier Terrill\, Confederate Josey Wales refuses to join his captain Fletcher and the rest of his comrades in surrender to a U.S. Army regiment. Deemed a dangerous outlaw after a bloody one-man battle with that regiment\, Josey is pursued by U.S. cavalry soldiers led by the unwilling Fletcher and the murderous Terrill\, as well as by bounty hunters who eventually learn how coolly lethal Wales can be.
X-ALT-DESC;FMTTYPE=text/html:Proceeds benefit Hutchinson Center for the Arts The Outlaw Josey Wales PG 2 hr 15 min The Outlaw Josey Wales chronicles the hero&#39\;s violent journey westward after the Civil War. With fresh memoris of his family&#39\;s slaughter by Red Leg soldier Terrill\, Confederate Josey Wales refuses to join his captain Fletcher and the rest of his comrades in surrender to a U.S. Army regiment. Deemed a dangerous outlaw after a bloody one-man battle with that regiment\, Josey is pursued by U.S. cavalry soldiers led by the unwilling Fletcher and the murderous Terrill\, as well as by bounty hunters who eventually learn how coolly lethal Wales can be.
LOCATION:35 Washington Avenue East Hutchinson\, MN 55350
UID:e.42.38740
SEQUENCE:3
DTSTAMP:20260421T115427Z
URL:https://business.explorehutchinson.com/events/details/the-outlaw-josey-wales-fundraiser-38740
END:VEVENT

END:VCALENDAR
