BEGIN:VCALENDAR
VERSION:2.0
PRODID:-//ChamberMaster//Event Calendar 2.0//EN
METHOD:PUBLISH
X-PUBLISHED-TTL:P3D
REFRESH-INTERVAL:P3D
CALSCALE:GREGORIAN
BEGIN:VEVENT
DTSTART:20230330T150000Z
DTEND:20230330T220000Z
X-MICROSOFT-CDO-ALLDAYEVENT:FALSE
SUMMARY:Turning Point - By Naomi Schliesman
DESCRIPTION:Naomi Schliesman is an award winning interdisciplinary artist with over 20 years of experience. Turning Point is an interdisciplinary exhibition with 2D and 3D mixed media artwork. See it on display at the Hutchinson Center for the Arts.
X-ALT-DESC;FMTTYPE=text/html:Naomi Schliesman is an award winning interdisciplinary artist with over 20 years of experience.&nbsp\;Turning Point is an interdisciplinary exhibition with 2D and 3D mixed media artwork. See it on display at the Hutchinson Center for the Arts.
LOCATION:Hutchinson Center for the Arts 15 Franklin St SW
UID:e.42.34467
SEQUENCE:3
DTSTAMP:20260419T162356Z
URL:https://business.explorehutchinson.com/events/details/turning-point-by-naomi-schliesman-03-30-2023-34467
END:VEVENT

END:VCALENDAR
