BEGIN:VCALENDAR
VERSION:2.0
PRODID:-//ChamberMaster//Event Calendar 2.0//EN
METHOD:PUBLISH
X-PUBLISHED-TTL:P3D
REFRESH-INTERVAL:P3D
CALSCALE:GREGORIAN
BEGIN:VEVENT
DTSTART:20230615T140000Z
DTEND:20230615T163000Z
X-MICROSOFT-CDO-ALLDAYEVENT:FALSE
SUMMARY:Vacation Bible School
DESCRIPTION:JESUS IS MY LIFESAVER!\n\nAre you ready to have fun\, and change the world? Then come on board with "JESUS\, our Lifesaver!" Join us for a VBS experience all about faith\, hope\, love and eternal life. We will grow in our lifesaving faith as we play\, learn\, and sing about Jesus!
X-ALT-DESC;FMTTYPE=text/html:<span style="font-size:16px"><span style="font-family:arial\,helvetica\,sans-serif"><strong><span dir="auto">JESUS IS MY LIFESAVER!<br />\nAre you ready to have fun\, and change the world? Then come on board with &quot\;JESUS\, our Lifesaver!&quot\; Join us for a VBS experience all about faith\, hope\, love and eternal life. We will grow in our lifesaving faith as we play\, learn\, and sing about Jesus!</span></strong></span></span>
LOCATION:Peace Lutheran Church 400 Franklin St. SW Hutchinson\, MN
UID:e.42.34887
SEQUENCE:3
DTSTAMP:20260426T035455Z
URL:https://business.explorehutchinson.com/events/details/vacation-bible-school-06-15-2023-34887
END:VEVENT

END:VCALENDAR
