BEGIN:VCALENDAR
VERSION:2.0
PRODID:-//ChamberMaster//Event Calendar 2.0//EN
METHOD:PUBLISH
X-PUBLISHED-TTL:P3D
REFRESH-INTERVAL:P3D
CALSCALE:GREGORIAN
BEGIN:VEVENT
DTSTART:20260513T170000Z
DTEND:20260513T170000Z
X-MICROSOFT-CDO-ALLDAYEVENT:FALSE
SUMMARY:Vets FREE Coffee\, Cards and Camraderie
DESCRIPTION:FREE Coffee\, Cards and Camraderie at the Hutchinson Elks Lodge! We will provide coffee\, water\, a small treat as well as the cards and dice\, etc. and you bring the camraderie!
X-ALT-DESC;FMTTYPE=text/html:FREE Coffee\, Cards and Camraderie at the Hutchinson Elks Lodge! We will provide coffee\, water\, a small treat as well as the cards and dice\, etc. and you bring the camraderie!
LOCATION:Hutchinson Elks Lodge #2427
UID:e.42.41551
SEQUENCE:3
DTSTAMP:20260421T165037Z
URL:https://business.explorehutchinson.com/events/details/vets-free-coffee-cards-and-camraderie-41551
END:VEVENT

END:VCALENDAR
