BEGIN:VCALENDAR
VERSION:2.0
PRODID:-//ChamberMaster//Event Calendar 2.0//EN
METHOD:PUBLISH
X-PUBLISHED-TTL:P3D
REFRESH-INTERVAL:P3D
CALSCALE:GREGORIAN
BEGIN:VEVENT
DTSTART:20230326T190000Z
DTEND:20230326T210000Z
X-MICROSOFT-CDO-ALLDAYEVENT:FALSE
SUMMARY:Vineyard Bingo
DESCRIPTION:Winner wins half the pot and the other half of the proceeds from March Bingo will go towards 2BC Dancing like the Stars: Paul & Heather Wright Fundraiser. They are raising money for suicide prevention & mental health awareness for the group\, 2B Continued. More information here: https://2bcontinued.networkforgood.com/projects/181939-wright-pre-event-fundraising-campaign?fbclid=IwAR0unchV_qOC3u-JEaebEwy8wcw4LQwD9Avds_fSn0JdDTP-dLbb_30_Bvs
X-ALT-DESC;FMTTYPE=text/html:Winner wins half the pot and the other half of the proceeds from March Bingo will go towards 2BC Dancing like the Stars: Paul &amp\; Heather Wright Fundraiser. They are raising money for suicide prevention &amp\; mental health awareness for the group\, 2B Continued. More information here: https://2bcontinued.networkforgood.com/projects/181939-wright-pre-event-fundraising-campaign?fbclid=IwAR0unchV_qOC3u-JEaebEwy8wcw4LQwD9Avds_fSn0JdDTP-dLbb_30_Bvs
LOCATION:Vineyard United Methodist Church 1395 South Grade Road SW Hutchinson\, MN 55350
UID:e.42.34497
SEQUENCE:3
DTSTAMP:20260419T144324Z
URL:https://business.explorehutchinson.com/events/details/vineyard-bingo-34497
END:VEVENT

END:VCALENDAR
