BEGIN:VCALENDAR
VERSION:2.0
PRODID:-//ChamberMaster//Event Calendar 2.0//EN
METHOD:PUBLISH
X-PUBLISHED-TTL:P3D
REFRESH-INTERVAL:P3D
CALSCALE:GREGORIAN
BEGIN:VEVENT
DTSTART;VALUE=DATE:20220613
DTEND;VALUE=DATE:20220620
TRANSP:TRANSPARENT
X-MICROSOFT-CDO-ALLDAYEVENT:TRUE
SUMMARY:79th Water Carnival
DESCRIPTION:The Hutchinson Jaycee Water Carnival is a Community Festival provided to Hutchinson and surrounding areas.\n\nThis festival highlights the local pride of area businesses and citizens and encourages community support\, fellowship and family fun.\n\n\n\nCheck out all that's happening at https://www.watercarnival.org/ and plan on joining in on the fun!
X-ALT-DESC;FMTTYPE=text/html:<div>\n<h2>The Hutchinson Jaycee Water Carnival is a Community Festival provided to Hutchinson and surrounding areas.</h2>\n\n<h2>This festival highlights the local pride of area businesses and citizens and encourages community support\, fellowship and family fun.<br />\n<br />\n<strong>Check out all that&#39\;s happening at https://www.watercarnival.org/ and plan on joining in on the fun!</strong></h2>\n</div>\n
LOCATION:
UID:e.42.31744
SEQUENCE:3
DTSTAMP:20260425T110156Z
URL:https://business.explorehutchinson.com/events/details/water-carnival-31744
END:VEVENT

END:VCALENDAR
