BEGIN:VCALENDAR
VERSION:2.0
PRODID:-//ChamberMaster//Event Calendar 2.0//EN
METHOD:PUBLISH
X-PUBLISHED-TTL:P3D
REFRESH-INTERVAL:P3D
CALSCALE:GREGORIAN
BEGIN:VEVENT
DTSTART:20260109T010000Z
DTEND:20260109T030000Z
X-MICROSOFT-CDO-ALLDAYEVENT:FALSE
SUMMARY:Week of Revival
DESCRIPTION:WEEK OF REVIVAL: EV. RICHARD MOORE\n\nRevival is here! Join us for a life-changing Week of Revival with Evangelist Richard Moore. Come hungry and expectant for what God wants to do in your life! We will begin each night at 7pm with Worship followed by a powerful message as Evangelist Richard Moore ministers the Word. Come expecting a Miracle or whatever it is you need!\n\n\n\nJanuary 11-16 | Sunday 10 AM | Nightly 7 PM
X-ALT-DESC;FMTTYPE=text/html:<h1 style="margin-left:0px\; margin-right:0px">WEEK OF REVIVAL:&nbsp\;<strong>EV. RICHARD MOORE</strong></h1>\n\n<div><span style="font-family:arial\,helvetica\,sans-serif">Revival is here! Join us for a life-changing Week of Revival with Evangelist Richard Moore. Come hungry and expectant for what God wants to do in your life! We will begin each night at 7pm with Worship followed by a powerful message as Evangelist Richard Moore ministers the Word. Come expecting a Miracle or whatever it is you need!<br />\n<br />\n<span style="color:rgb(61\, 61\, 61)\; font-size:16px">January 11-16 | Sunday 10 AM | Nightly 7 PM</span></span></div>\n
LOCATION:18358 203rd Street Hutchinson\, MN 55350
UID:e.42.37920
SEQUENCE:3
DTSTAMP:20260421T115201Z
URL:https://business.explorehutchinson.com/events/details/week-of-revival-37920
END:VEVENT

END:VCALENDAR
