BEGIN:VCALENDAR
VERSION:2.0
PRODID:-//ChamberMaster//Event Calendar 2.0//EN
METHOD:PUBLISH
X-PUBLISHED-TTL:P3D
REFRESH-INTERVAL:P3D
CALSCALE:GREGORIAN
BEGIN:VEVENT
DTSTART:20230504T223000Z
DTEND:20230505T013000Z
X-MICROSOFT-CDO-ALLDAYEVENT:FALSE
SUMMARY:Whoopee Fest 2
DESCRIPTION:Live Polka Music by Chuck Thiel and the Jolly Ramblers. Authentic German Cuisine Beer (21+) Root Beer Sponsored By Pat Chapman of Edward Jones
X-ALT-DESC;FMTTYPE=text/html:Live Polka Music by Chuck Thiel and the Jolly Ramblers. Authentic German Cuisine Beer (21+) Root Beer Sponsored By Pat Chapman of Edward Jones
LOCATION:McLeod County History Museum
UID:e.42.34536
SEQUENCE:3
DTSTAMP:20260426T035226Z
URL:https://business.explorehutchinson.com/events/details/whoopee-fest-2-34536
END:VEVENT

END:VCALENDAR
