BEGIN:VCALENDAR
VERSION:2.0
PRODID:-//ChamberMaster//Event Calendar 2.0//EN
METHOD:PUBLISH
X-PUBLISHED-TTL:P3D
REFRESH-INTERVAL:P3D
CALSCALE:GREGORIAN
BEGIN:VEVENT
DTSTART:20260423T150000Z
DTEND:20260425T190000Z
X-MICROSOFT-CDO-ALLDAYEVENT:FALSE
SUMMARY:Wild Olive Tree Sale
DESCRIPTION:We will be open in April! Freshen up your space with some new decor!!\n\nWe also have gift ideas for baptisms\, confirmations\, graduations\, or get an early start on Mother's Day shopping!
X-ALT-DESC;FMTTYPE=text/html:<div>We will be open in April! Freshen up your space with some new decor!!</div>\n\n<div>We also have gift ideas for baptisms\, confirmations\, graduations\, or get an early start on Mother&#39\;s Day shopping!</div>\n
LOCATION:16457 Highway 7 East Hutchinson\, MN
UID:e.42.41553
SEQUENCE:3
DTSTAMP:20260421T085435Z
URL:https://business.explorehutchinson.com/events/details/wild-olive-tree-sale-04-23-2026-41553
END:VEVENT

END:VCALENDAR
